BEGIN:VCALENDAR
VERSION:2.0
PRODID:-//Regiopakt - ECPv6.15.20//NONSGML v1.0//EN
CALSCALE:GREGORIAN
METHOD:PUBLISH
X-WR-CALNAME:Regiopakt
X-ORIGINAL-URL:https://www.regiopakt.de
X-WR-CALDESC:Veranstaltungen für Regiopakt
REFRESH-INTERVAL;VALUE=DURATION:PT1H
X-Robots-Tag:noindex
X-PUBLISHED-TTL:PT1H
BEGIN:VTIMEZONE
TZID:Europe/Berlin
BEGIN:DAYLIGHT
TZOFFSETFROM:+0100
TZOFFSETTO:+0200
TZNAME:CEST
DTSTART:20220327T010000
END:DAYLIGHT
BEGIN:STANDARD
TZOFFSETFROM:+0200
TZOFFSETTO:+0100
TZNAME:CET
DTSTART:20221030T010000
END:STANDARD
BEGIN:DAYLIGHT
TZOFFSETFROM:+0100
TZOFFSETTO:+0200
TZNAME:CEST
DTSTART:20230326T010000
END:DAYLIGHT
BEGIN:STANDARD
TZOFFSETFROM:+0200
TZOFFSETTO:+0100
TZNAME:CET
DTSTART:20231029T010000
END:STANDARD
BEGIN:DAYLIGHT
TZOFFSETFROM:+0100
TZOFFSETTO:+0200
TZNAME:CEST
DTSTART:20240331T010000
END:DAYLIGHT
BEGIN:STANDARD
TZOFFSETFROM:+0200
TZOFFSETTO:+0100
TZNAME:CET
DTSTART:20241027T010000
END:STANDARD
END:VTIMEZONE
BEGIN:VEVENT
DTSTART;VALUE=DATE:20230511
DTEND;VALUE=DATE:20230512
DTSTAMP:20260419T225054
CREATED:20230417T074941Z
LAST-MODIFIED:20230922T071325Z
UID:1671-1683763200-1683849599@www.regiopakt.de
SUMMARY:8. Hochschulforum | Ökonomie und Innovation in der Agrar- und Ernährungswirtschaft
DESCRIPTION:Das 8. Hochschulforum findet an der Hochschule Neubrandenburg zum Thema „Vielfältige Strukturen in der Agrar- und Ernährungswirtschaft – Herausforderungen und Perspektiven“ statt. Mitarbeitende des Projekts nehmen an der Veranstaltung teil\, um sich über projektspezifische Themen im wissenschaftlichen Kontext auszutauschen.
URL:https://www.regiopakt.de/event/8-hochschulforum-oekonomie-und-innovation-in-der-agrar-und-ernaehrungswirtschaft/
END:VEVENT
END:VCALENDAR