BEGIN:VCALENDAR
VERSION:2.0
PRODID:-//Regiopakt - ECPv6.15.20//NONSGML v1.0//EN
CALSCALE:GREGORIAN
METHOD:PUBLISH
X-ORIGINAL-URL:https://www.regiopakt.de
X-WR-CALDESC:Veranstaltungen für Regiopakt
REFRESH-INTERVAL;VALUE=DURATION:PT1H
X-Robots-Tag:noindex
X-PUBLISHED-TTL:PT1H
BEGIN:VTIMEZONE
TZID:Europe/Berlin
BEGIN:DAYLIGHT
TZOFFSETFROM:+0100
TZOFFSETTO:+0200
TZNAME:CEST
DTSTART:20230326T010000
END:DAYLIGHT
BEGIN:STANDARD
TZOFFSETFROM:+0200
TZOFFSETTO:+0100
TZNAME:CET
DTSTART:20231029T010000
END:STANDARD
BEGIN:DAYLIGHT
TZOFFSETFROM:+0100
TZOFFSETTO:+0200
TZNAME:CEST
DTSTART:20240331T010000
END:DAYLIGHT
BEGIN:STANDARD
TZOFFSETFROM:+0200
TZOFFSETTO:+0100
TZNAME:CET
DTSTART:20241027T010000
END:STANDARD
BEGIN:DAYLIGHT
TZOFFSETFROM:+0100
TZOFFSETTO:+0200
TZNAME:CEST
DTSTART:20250330T010000
END:DAYLIGHT
BEGIN:STANDARD
TZOFFSETFROM:+0200
TZOFFSETTO:+0100
TZNAME:CET
DTSTART:20251026T010000
END:STANDARD
END:VTIMEZONE
BEGIN:VEVENT
DTSTART;TZID=Europe/Berlin:20241127T190000
DTEND;TZID=Europe/Berlin:20241127T200000
DTSTAMP:20260419T152902
CREATED:20241112T154417Z
LAST-MODIFIED:20241112T154417Z
UID:2141-1732734000-1732737600@www.regiopakt.de
SUMMARY:Regio-Talks: Lebensmittel-Kennzeichnung in der Direktvermarktung - Was muss alles aufs Etikett?
DESCRIPTION:Bei der Kennzeichnung von Lebensmitteln in der landwirtschaftlichen Direktvermarktung gilt es einiges zu beachten. Den rechtlichen Rahmen hierfür gibt die Lebensmittelinformationsverordnung vor. Dorothea Hein erklärt uns\, was genau sich dahinter verbirgt und was bei der Kennzeichnung von verpackten Lebensmittel zu beachten ist. \nZugang zum Online-Meeting:\nZoom-Veranstaltung: https://hswt.zoom.us/j/93201920792\nMeeting-ID: 932 0192 0792
URL:https://www.regiopakt.de/event/regio-talks-lebensmittelkennzeichnung-direktvermarktung/
LOCATION:Online
END:VEVENT
END:VCALENDAR