BEGIN:VCALENDAR
VERSION:2.0
PRODID:-//Regiopakt - ECPv6.15.20//NONSGML v1.0//EN
CALSCALE:GREGORIAN
METHOD:PUBLISH
X-ORIGINAL-URL:https://www.regiopakt.de
X-WR-CALDESC:Veranstaltungen für Regiopakt
REFRESH-INTERVAL;VALUE=DURATION:PT1H
X-Robots-Tag:noindex
X-PUBLISHED-TTL:PT1H
BEGIN:VTIMEZONE
TZID:Europe/Berlin
BEGIN:DAYLIGHT
TZOFFSETFROM:+0100
TZOFFSETTO:+0200
TZNAME:CEST
DTSTART:20240331T010000
END:DAYLIGHT
BEGIN:STANDARD
TZOFFSETFROM:+0200
TZOFFSETTO:+0100
TZNAME:CET
DTSTART:20241027T010000
END:STANDARD
BEGIN:DAYLIGHT
TZOFFSETFROM:+0100
TZOFFSETTO:+0200
TZNAME:CEST
DTSTART:20250330T010000
END:DAYLIGHT
BEGIN:STANDARD
TZOFFSETFROM:+0200
TZOFFSETTO:+0100
TZNAME:CET
DTSTART:20251026T010000
END:STANDARD
BEGIN:DAYLIGHT
TZOFFSETFROM:+0100
TZOFFSETTO:+0200
TZNAME:CEST
DTSTART:20260329T010000
END:DAYLIGHT
BEGIN:STANDARD
TZOFFSETFROM:+0200
TZOFFSETTO:+0100
TZNAME:CET
DTSTART:20261025T010000
END:STANDARD
END:VTIMEZONE
BEGIN:VEVENT
DTSTART;TZID=Europe/Berlin:20250108T153000
DTEND;TZID=Europe/Berlin:20250109T163000
DTSTAMP:20260419T180249
CREATED:20241028T150052Z
LAST-MODIFIED:20241028T150052Z
UID:2135-1736350200-1736440200@www.regiopakt.de
SUMMARY:Kichererbsen-Forum 2025
DESCRIPTION:Erfahrungsaustausch aus Praxis und Wissenschaft für das Anbaujahr 2025. Aktuelle Forschungsergebnisse und Erfahrungen von Praktiker:innen und Forscher:innen zum ökologischen und konventionellen Kichererbsenanbau stehen im Fokus. Themen wie Saatgut\, Feldaufgang\, Beikrautmanagement\, Krankheiten\, Abreife und Erntetechnik werden vertieft. Den Abschluss bildet eine Betriebsbesichtigung der LBV Schrozberg. \nProgramm Kichererbsen-Forum Jan ’25  \nAnmeldung über diesen Link: https://eveeno.com/275641018
URL:https://www.regiopakt.de/event/kichererbsen-forum-2025/
LOCATION:Schloss Kirchberg\, Schloßstraße 16/3\, Kirchberg an der Jagst\, 74592\, Germany
END:VEVENT
END:VCALENDAR