BEGIN:VCALENDAR
VERSION:2.0
PRODID:-//Regiopakt - ECPv6.15.20//NONSGML v1.0//EN
CALSCALE:GREGORIAN
METHOD:PUBLISH
X-ORIGINAL-URL:https://www.regiopakt.de
X-WR-CALDESC:Veranstaltungen für Regiopakt
REFRESH-INTERVAL;VALUE=DURATION:PT1H
X-Robots-Tag:noindex
X-PUBLISHED-TTL:PT1H
BEGIN:VTIMEZONE
TZID:Europe/Berlin
BEGIN:DAYLIGHT
TZOFFSETFROM:+0100
TZOFFSETTO:+0200
TZNAME:CEST
DTSTART:20240331T010000
END:DAYLIGHT
BEGIN:STANDARD
TZOFFSETFROM:+0200
TZOFFSETTO:+0100
TZNAME:CET
DTSTART:20241027T010000
END:STANDARD
BEGIN:DAYLIGHT
TZOFFSETFROM:+0100
TZOFFSETTO:+0200
TZNAME:CEST
DTSTART:20250330T010000
END:DAYLIGHT
BEGIN:STANDARD
TZOFFSETFROM:+0200
TZOFFSETTO:+0100
TZNAME:CET
DTSTART:20251026T010000
END:STANDARD
BEGIN:DAYLIGHT
TZOFFSETFROM:+0100
TZOFFSETTO:+0200
TZNAME:CEST
DTSTART:20260329T010000
END:DAYLIGHT
BEGIN:STANDARD
TZOFFSETFROM:+0200
TZOFFSETTO:+0100
TZNAME:CET
DTSTART:20261025T010000
END:STANDARD
END:VTIMEZONE
BEGIN:VEVENT
DTSTART;TZID=Europe/Berlin:20250703T100000
DTEND;TZID=Europe/Berlin:20250703T143000
DTSTAMP:20260420T002716
CREATED:20250528T140248Z
LAST-MODIFIED:20250630T065155Z
UID:2172-1751536800-1751553000@www.regiopakt.de
SUMMARY:Feldtag Ackerbau im Klimastress - Vielfalt durch Eiweißpflanzen
DESCRIPTION:Wir veranstalten auch dieses Jahr wieder einen Feldtag und freuen uns die LBV Schrozberg als Partner dabei zu haben. Diesmal lautet das Thema „Ackerbau im Klimastress – Vielfalt durch Eiweißpflanzen“. \nVeranstaltungsort: Reusch\, Rothenburg ob der Tauber \nKoordinaten Google Maps: 49.343443\, 10.107150\nAusgeschildert ab Reusch \nEuch erwarten eine Maschinenaustellung\, Fachvorträge\, Feldführungen (Kichererbsen\, Linsen\, diverse Bohnensorten und Pseudogetreide). Auch ein Verkauf regionaler Eiweßpflanzen ist geplant. \nDas Programm kann hier eingesehen werden (klickbarer Link): Programm Feldtag
URL:https://www.regiopakt.de/event/feldtag-ackerbau-im-klimastress-vielfalt-durch-eiweisspflanzen/
LOCATION:Reusch\, Rothenburg ob der Tauber
END:VEVENT
END:VCALENDAR