BEGIN:VCALENDAR
VERSION:2.0
PRODID:-//Regiopakt - ECPv6.15.20//NONSGML v1.0//EN
CALSCALE:GREGORIAN
METHOD:PUBLISH
X-WR-CALNAME:Regiopakt
X-ORIGINAL-URL:https://www.regiopakt.de
X-WR-CALDESC:Veranstaltungen für Regiopakt
REFRESH-INTERVAL;VALUE=DURATION:PT1H
X-Robots-Tag:noindex
X-PUBLISHED-TTL:PT1H
BEGIN:VTIMEZONE
TZID:Europe/Berlin
BEGIN:DAYLIGHT
TZOFFSETFROM:+0100
TZOFFSETTO:+0200
TZNAME:CEST
DTSTART:20240331T010000
END:DAYLIGHT
BEGIN:STANDARD
TZOFFSETFROM:+0200
TZOFFSETTO:+0100
TZNAME:CET
DTSTART:20241027T010000
END:STANDARD
BEGIN:DAYLIGHT
TZOFFSETFROM:+0100
TZOFFSETTO:+0200
TZNAME:CEST
DTSTART:20250330T010000
END:DAYLIGHT
BEGIN:STANDARD
TZOFFSETFROM:+0200
TZOFFSETTO:+0100
TZNAME:CET
DTSTART:20251026T010000
END:STANDARD
BEGIN:DAYLIGHT
TZOFFSETFROM:+0100
TZOFFSETTO:+0200
TZNAME:CEST
DTSTART:20260329T010000
END:DAYLIGHT
BEGIN:STANDARD
TZOFFSETFROM:+0200
TZOFFSETTO:+0100
TZNAME:CET
DTSTART:20261025T010000
END:STANDARD
END:VTIMEZONE
BEGIN:VEVENT
DTSTART;TZID=Europe/Berlin:20250716T093000
DTEND;TZID=Europe/Berlin:20250716T123000
DTSTAMP:20260420T014431
CREATED:20250528T141119Z
LAST-MODIFIED:20250630T064648Z
UID:2175-1752658200-1752669000@www.regiopakt.de
SUMMARY:Fachexkursion: Kichererbse - Kulinarik - Klimaschutz
DESCRIPTION:Zusammen mit der Regionalbewegung veranstalten wir im Juli eine Veranstaltung in Triesdorf. Vielfalt auf dem Acker ist nicht nur zur Anpassung an den Klimawandel\, sondern auch als Möglichkeit\, dessen Auswirkungen langfristig abzumildern eine gute Möglichkeit. Im Mittelpunkt dieser Veranstaltung stehen deshalb Kulturen wie Kichererbsen\, Linsen oder Buchweizen\, die ein vielversprechendes Potenzial für die Diversifizierung und Klimaanpassung bieten. Wir schauen uns diese Kulturen auf dem Acker an\, bekommen ein paar Fachimpulse und natürlich auch regionale Kichererbsenprodukte zum Verkosten. \nSie erwartet folgendes Programm: \n09:30 Uhr: Eröffnung der Veranstaltung auf dem Acker: Nicole Nefzger\, Regionalbewegung Mittelfranken\, Ulrich Lohmüller\, Landwirtschaftliche Lehranstalten Triesdorf\, Prof. Dr. Peter Breunig\, regiopakt (HSWT) \n09:45 Uhr :Grußwort des mittelfränkischen Bezirkstagspräsidenten Peter Daniel Forster \n10:00 Uhr: Eiweißversuche mit Kichererbse & Co. – Züchtung\, Herausforderungen und Perspektiven\, Prof. Dr. Franziska Wespel\nEinblick in die Praxis (Anbau und Vermarktung) mit Landwirt Waldemar Hein \n10:30 Uhr: Ortswechsel in die Räumlichkeiten der Hochschule \n11:00 Uhr: Klimawandel in Nordbayern und Herausforderungen für den Agrarsektor\, Prof. Dr. Heiko Paeth\, Universität Würzburg \n11:30 Uhr: Vorstellung des Projektes regiopakt \n12:00 Uhr: Kulinarik rund um die regionale Kichererbse\, Ausklang mit Verkostung \n👉Melde Sie sich jetzt an mit einer kurzen\, formlosen E-Mail an: winter@regionalbewegung.de. \n  \n 
URL:https://www.regiopakt.de/event/mittelfranken-vernetzt/
LOCATION:Hochschule Weihenstephan-Triesdorf am Campus Triesdorf
END:VEVENT
END:VCALENDAR