BEGIN:VCALENDAR
VERSION:2.0
PRODID:-//Regiopakt - ECPv6.15.20//NONSGML v1.0//EN
CALSCALE:GREGORIAN
METHOD:PUBLISH
X-ORIGINAL-URL:https://www.regiopakt.de
X-WR-CALDESC:Veranstaltungen für Regiopakt
REFRESH-INTERVAL;VALUE=DURATION:PT1H
X-Robots-Tag:noindex
X-PUBLISHED-TTL:PT1H
BEGIN:VTIMEZONE
TZID:Europe/Berlin
BEGIN:DAYLIGHT
TZOFFSETFROM:+0100
TZOFFSETTO:+0200
TZNAME:CEST
DTSTART:20240331T010000
END:DAYLIGHT
BEGIN:STANDARD
TZOFFSETFROM:+0200
TZOFFSETTO:+0100
TZNAME:CET
DTSTART:20241027T010000
END:STANDARD
BEGIN:DAYLIGHT
TZOFFSETFROM:+0100
TZOFFSETTO:+0200
TZNAME:CEST
DTSTART:20250330T010000
END:DAYLIGHT
BEGIN:STANDARD
TZOFFSETFROM:+0200
TZOFFSETTO:+0100
TZNAME:CET
DTSTART:20251026T010000
END:STANDARD
BEGIN:DAYLIGHT
TZOFFSETFROM:+0100
TZOFFSETTO:+0200
TZNAME:CEST
DTSTART:20260329T010000
END:DAYLIGHT
BEGIN:STANDARD
TZOFFSETFROM:+0200
TZOFFSETTO:+0100
TZNAME:CET
DTSTART:20261025T010000
END:STANDARD
END:VTIMEZONE
BEGIN:VEVENT
DTSTART;TZID=Europe/Berlin:20251014T140000
DTEND;TZID=Europe/Berlin:20251014T180000
DTSTAMP:20260420T062643
CREATED:20250904T100022Z
LAST-MODIFIED:20250904T113214Z
UID:2411-1760450400-1760464800@www.regiopakt.de
SUMMARY:Workshop "Social-Media im Agrar-&Lebensmittelsektor" Serie 1
DESCRIPTION:Ihr wollt aktiver auf Insta und co. werden und ihr wisst nicht so richtig\, wie das geht? Dann kommt gerne in unserem Workshop vorbei. \nDas Team vom LAEND Agrarmarketing zeigt euch mit „Learning by doing“: \n\nGrundlage Social Media\nRedaktions- und Mediaplanung\nGestaltungsmöglichkeiten\nSocal Media in der Umsetzung\nErfolgsmessung und Controlling\nKPI-Bestimmung und Wirtschaftlichkeit\n\nTermine: \n\nDi\, 14.10.25\nDo\, 16.10.25\nDi\, 21.10.25\nDo\, 23.10.25\n\njeweils 14:00 – 18:00 Uhr (online) \nHinweis: Die Teilnahme ist kostenlos\, aber verbindlich. Wenn Sie sich anmelden\, halten Sie sich bitte alle Termine frei\, da die Inhalte aufeinander aufbauen. \nAnmeldung: petra.hangleiter@hfwu.de
URL:https://www.regiopakt.de/event/workshop-social-media-im-agrar-lebensmittelsektor-serie-1/
LOCATION:Online
END:VEVENT
END:VCALENDAR