BEGIN:VCALENDAR
VERSION:2.0
PRODID:-//Regiopakt - ECPv6.15.20//NONSGML v1.0//EN
CALSCALE:GREGORIAN
METHOD:PUBLISH
X-WR-CALNAME:Regiopakt
X-ORIGINAL-URL:https://www.regiopakt.de
X-WR-CALDESC:Veranstaltungen für Regiopakt
REFRESH-INTERVAL;VALUE=DURATION:PT1H
X-Robots-Tag:noindex
X-PUBLISHED-TTL:PT1H
BEGIN:VTIMEZONE
TZID:Europe/Berlin
BEGIN:DAYLIGHT
TZOFFSETFROM:+0100
TZOFFSETTO:+0200
TZNAME:CEST
DTSTART:20240331T010000
END:DAYLIGHT
BEGIN:STANDARD
TZOFFSETFROM:+0200
TZOFFSETTO:+0100
TZNAME:CET
DTSTART:20241027T010000
END:STANDARD
BEGIN:DAYLIGHT
TZOFFSETFROM:+0100
TZOFFSETTO:+0200
TZNAME:CEST
DTSTART:20250330T010000
END:DAYLIGHT
BEGIN:STANDARD
TZOFFSETFROM:+0200
TZOFFSETTO:+0100
TZNAME:CET
DTSTART:20251026T010000
END:STANDARD
BEGIN:DAYLIGHT
TZOFFSETFROM:+0100
TZOFFSETTO:+0200
TZNAME:CEST
DTSTART:20260329T010000
END:DAYLIGHT
BEGIN:STANDARD
TZOFFSETFROM:+0200
TZOFFSETTO:+0100
TZNAME:CET
DTSTART:20261025T010000
END:STANDARD
END:VTIMEZONE
BEGIN:VEVENT
DTSTART;TZID=Europe/Berlin:20251028T160000
DTEND;TZID=Europe/Berlin:20251028T200000
DTSTAMP:20260420T062953
CREATED:20250904T104513Z
LAST-MODIFIED:20250904T113149Z
UID:2418-1761667200-1761681600@www.regiopakt.de
SUMMARY:Workshop "Social-Media im Agrar-&Lebensmittelsektor" Serie 2
DESCRIPTION:Ihr wollt aktiver auf Insta und co. werden und ihr wisst nicht so richtig\, wie das geht? Dann kommt gerne in unserem Workshop vorbei. \nDas Team vom LAEND Agrarmarketing zeigt euch mit „Learning by doing“: \n\nGrundlage Social Media\nRedaktions- und Mediaplanung\nGestaltungsmöglichkeiten\nSocal Media in der Umsetzung\nErfolgsmessung und Controlling\nKPI-Bestimmung und Wirtschaftlichkeit\n\nTermine: \n\nDi\, 28.10.25\nDo\, 30.10.25\nDi\, 04.11.25\nDi\, 18.11.25\n\njeweils 16:00 – 20:00 Uhr ausschließlich online \nHinweis: Die Teilnahme ist kostenlos\, aber verbindlich. Wenn Sie sich anmelden\, halten Sie sich bitte alle Termine frei\, da die Inhalte aufeinander aufbauen. \nAnmeldung: petra.hangleiter@hfwu.de
URL:https://www.regiopakt.de/event/workshop-social-media-im-agrar-lebensmittelsektor-serie-2/
LOCATION:Online
END:VEVENT
END:VCALENDAR