BEGIN:VCALENDAR
VERSION:2.0
PRODID:-//Regiopakt - ECPv6.15.20//NONSGML v1.0//EN
CALSCALE:GREGORIAN
METHOD:PUBLISH
X-ORIGINAL-URL:https://www.regiopakt.de
X-WR-CALDESC:Veranstaltungen für Regiopakt
REFRESH-INTERVAL;VALUE=DURATION:PT1H
X-Robots-Tag:noindex
X-PUBLISHED-TTL:PT1H
BEGIN:VTIMEZONE
TZID:Europe/Berlin
BEGIN:DAYLIGHT
TZOFFSETFROM:+0100
TZOFFSETTO:+0200
TZNAME:CEST
DTSTART:20220327T010000
END:DAYLIGHT
BEGIN:STANDARD
TZOFFSETFROM:+0200
TZOFFSETTO:+0100
TZNAME:CET
DTSTART:20221030T010000
END:STANDARD
BEGIN:DAYLIGHT
TZOFFSETFROM:+0100
TZOFFSETTO:+0200
TZNAME:CEST
DTSTART:20230326T010000
END:DAYLIGHT
BEGIN:STANDARD
TZOFFSETFROM:+0200
TZOFFSETTO:+0100
TZNAME:CET
DTSTART:20231029T010000
END:STANDARD
BEGIN:DAYLIGHT
TZOFFSETFROM:+0100
TZOFFSETTO:+0200
TZNAME:CEST
DTSTART:20240331T010000
END:DAYLIGHT
BEGIN:STANDARD
TZOFFSETFROM:+0200
TZOFFSETTO:+0100
TZNAME:CET
DTSTART:20241027T010000
END:STANDARD
END:VTIMEZONE
BEGIN:VEVENT
DTSTART;TZID=Europe/Berlin:20230805T093000
DTEND;TZID=Europe/Berlin:20230805T140000
DTSTAMP:20260419T174136
CREATED:20230726T132830Z
LAST-MODIFIED:20230922T071237Z
UID:1912-1691227800-1691244000@www.regiopakt.de
SUMMARY:Feldtag „Ackerbau in Trockengebieten“
DESCRIPTION:Flyer mit detaillierten Programm (hier klicken) \n\n\n\nNischenkulturen spielen bei den Themen Biodiversität sowie nachhaltige Agrar- und Ernährungssysteme eine wichtige Rolle\, vor allem in Trockengebieten eröffnen diese große Chancen. Gerade in kleinstrukturierten Agrarsystemen kann man sich damit vom globalen Markt abgrenzen und neue Vermarktungswege erschließen. Durch die regionale Vermarktung von Kichererbsen\, Linsen & Co. profitieren auch Verbraucher:innen\, da sie einen einfachen Zugang zu gesunden pflanzlichen Lebensmitteln erhalten. \nIn spannenden Fachvorträgen sowie Demonstrationen auf dem Versuchsfeld zeigen die Projektforschenden gemeinsam mit dem Partner MyLocalFarm GmbH die Bedeutung von Nischenkulturen für einen regionalen Ackerbau in Trockengebieten. \nAnmeldung
URL:https://www.regiopakt.de/event/feldtag-ackerbau-in-trockengebieten/
LOCATION:Waigolshausen
ATTACH;FMTTYPE=image/jpeg:https://www.regiopakt.de/wp-content/uploads/2023/08/feldtag-regiopakt-ackerbau-trockengebiete.jpg
END:VEVENT
BEGIN:VEVENT
DTSTART;TZID=Europe/Berlin:20230810T100000
DTEND;TZID=Europe/Berlin:20230810T130000
DTSTAMP:20260419T174136
CREATED:20230726T134257Z
LAST-MODIFIED:20230922T071201Z
UID:1922-1691661600-1691672400@www.regiopakt.de
SUMMARY:Feldtag LfL "Neue Kulturarten in Trockenlagen"
DESCRIPTION:Wir werden bei dem Feldtag der LfL zum Thema „Körnerhirse\, Erdnuss\, Augenbohne & Co. als Anbaualternative für Landwirtschaft in Trockenlagen“ dabei sein. Weitere Informationen zur Veranstaltung kann hier eingesehen werden.
URL:https://www.regiopakt.de/event/feldtag-lfl-neue-kulturarten-in-trockenlagen/
END:VEVENT
END:VCALENDAR