BEGIN:VCALENDAR
VERSION:2.0
PRODID:-//Regiopakt - ECPv6.15.20//NONSGML v1.0//EN
CALSCALE:GREGORIAN
METHOD:PUBLISH
X-WR-CALNAME:Regiopakt
X-ORIGINAL-URL:https://www.regiopakt.de
X-WR-CALDESC:Veranstaltungen für Regiopakt
REFRESH-INTERVAL;VALUE=DURATION:PT1H
X-Robots-Tag:noindex
X-PUBLISHED-TTL:PT1H
BEGIN:VTIMEZONE
TZID:Europe/Berlin
BEGIN:DAYLIGHT
TZOFFSETFROM:+0100
TZOFFSETTO:+0200
TZNAME:CEST
DTSTART:20220327T010000
END:DAYLIGHT
BEGIN:STANDARD
TZOFFSETFROM:+0200
TZOFFSETTO:+0100
TZNAME:CET
DTSTART:20221030T010000
END:STANDARD
BEGIN:DAYLIGHT
TZOFFSETFROM:+0100
TZOFFSETTO:+0200
TZNAME:CEST
DTSTART:20230326T010000
END:DAYLIGHT
BEGIN:STANDARD
TZOFFSETFROM:+0200
TZOFFSETTO:+0100
TZNAME:CET
DTSTART:20231029T010000
END:STANDARD
BEGIN:DAYLIGHT
TZOFFSETFROM:+0100
TZOFFSETTO:+0200
TZNAME:CEST
DTSTART:20240331T010000
END:DAYLIGHT
BEGIN:STANDARD
TZOFFSETFROM:+0200
TZOFFSETTO:+0100
TZNAME:CET
DTSTART:20241027T010000
END:STANDARD
END:VTIMEZONE
BEGIN:VEVENT
DTSTART;VALUE=DATE:20230906
DTEND;VALUE=DATE:20230909
DTSTAMP:20260419T162210
CREATED:20230726T133757Z
LAST-MODIFIED:20230922T071136Z
UID:1919-1693958400-1694217599@www.regiopakt.de
SUMMARY:Farm-Food-Climate Festival
DESCRIPTION:Regiopakt wird beim Farm-Food-Climate Festival 2023 teilnehmen und eine Open Session leiten. Wir freuen uns auf den Austausch mit vielen Akteuren aus der Community zum Thema Wertschöpfungsketten-Aufbau im Bereich der Nischenkulturen unter Berücksichtigung von Klima- und Artenschutzleistungen.
URL:https://www.regiopakt.de/event/farm-food-climate-festival/
LOCATION:Königslutter am Elm
END:VEVENT
END:VCALENDAR