BEGIN:VCALENDAR
VERSION:2.0
PRODID:-//Regiopakt - ECPv6.15.20//NONSGML v1.0//EN
CALSCALE:GREGORIAN
METHOD:PUBLISH
X-WR-CALNAME:Regiopakt
X-ORIGINAL-URL:https://www.regiopakt.de
X-WR-CALDESC:Veranstaltungen für Regiopakt
REFRESH-INTERVAL;VALUE=DURATION:PT1H
X-Robots-Tag:noindex
X-PUBLISHED-TTL:PT1H
BEGIN:VTIMEZONE
TZID:Europe/Berlin
BEGIN:DAYLIGHT
TZOFFSETFROM:+0100
TZOFFSETTO:+0200
TZNAME:CEST
DTSTART:20240331T010000
END:DAYLIGHT
BEGIN:STANDARD
TZOFFSETFROM:+0200
TZOFFSETTO:+0100
TZNAME:CET
DTSTART:20241027T010000
END:STANDARD
BEGIN:DAYLIGHT
TZOFFSETFROM:+0100
TZOFFSETTO:+0200
TZNAME:CEST
DTSTART:20250330T010000
END:DAYLIGHT
BEGIN:STANDARD
TZOFFSETFROM:+0200
TZOFFSETTO:+0100
TZNAME:CET
DTSTART:20251026T010000
END:STANDARD
BEGIN:DAYLIGHT
TZOFFSETFROM:+0100
TZOFFSETTO:+0200
TZNAME:CEST
DTSTART:20260329T010000
END:DAYLIGHT
BEGIN:STANDARD
TZOFFSETFROM:+0200
TZOFFSETTO:+0100
TZNAME:CET
DTSTART:20261025T010000
END:STANDARD
END:VTIMEZONE
BEGIN:VEVENT
DTSTART;TZID=Europe/Berlin:20250226T193000
DTEND;TZID=Europe/Berlin:20250226T213000
DTSTAMP:20260419T181914
CREATED:20250207T080905Z
LAST-MODIFIED:20250207T080905Z
UID:2153-1740598200-1740605400@www.regiopakt.de
SUMMARY:Kichererbsen anbauen und vermarkten
DESCRIPTION:Das Landwirtschaftliche Technologiezentrum Augustenberg\n(LTZ) und die LBV Raiffeisen eG laden im Rahmen\ndes Projekts LeguNet zu einem Online-Informationsabend\nein. Thema ist der Anbau von Kichererbsen\nsowie deren Aufbereitung und Vermarktungsmöglichkeiten. \nTeilnahmebedingungen:\nDie Teilnahme an der Online-Veranstaltung ist kostenlos.\nAnmeldung per E-Mail an legunet@ltz.bwl.de.\nVor Veranstaltungsbeginn erhalten Sie einen Webex-\nZugang per E-Mail. \nWeitere Informationen:\nLTZ Augustenberg\nGundula Jahn\n0721/9518-247\nlegunet@ltz.bwl.de \nFlyer Kichererbsen anbauen und vermarkten
URL:https://www.regiopakt.de/event/kichererbsen-anbauen-und-vermarkten/
LOCATION:Online
END:VEVENT
END:VCALENDAR