BEGIN:VCALENDAR
VERSION:2.0
PRODID:-//Regiopakt - ECPv6.15.20//NONSGML v1.0//EN
CALSCALE:GREGORIAN
METHOD:PUBLISH
X-ORIGINAL-URL:https://www.regiopakt.de
X-WR-CALDESC:Veranstaltungen für Regiopakt
REFRESH-INTERVAL;VALUE=DURATION:PT1H
X-Robots-Tag:noindex
X-PUBLISHED-TTL:PT1H
BEGIN:VTIMEZONE
TZID:Europe/Berlin
BEGIN:DAYLIGHT
TZOFFSETFROM:+0100
TZOFFSETTO:+0200
TZNAME:CEST
DTSTART:20240331T010000
END:DAYLIGHT
BEGIN:STANDARD
TZOFFSETFROM:+0200
TZOFFSETTO:+0100
TZNAME:CET
DTSTART:20241027T010000
END:STANDARD
BEGIN:DAYLIGHT
TZOFFSETFROM:+0100
TZOFFSETTO:+0200
TZNAME:CEST
DTSTART:20250330T010000
END:DAYLIGHT
BEGIN:STANDARD
TZOFFSETFROM:+0200
TZOFFSETTO:+0100
TZNAME:CET
DTSTART:20251026T010000
END:STANDARD
BEGIN:DAYLIGHT
TZOFFSETFROM:+0100
TZOFFSETTO:+0200
TZNAME:CEST
DTSTART:20260329T010000
END:DAYLIGHT
BEGIN:STANDARD
TZOFFSETFROM:+0200
TZOFFSETTO:+0100
TZNAME:CET
DTSTART:20261025T010000
END:STANDARD
END:VTIMEZONE
BEGIN:VEVENT
DTSTART;TZID=Europe/Berlin:20250911T090000
DTEND;TZID=Europe/Berlin:20250911T170000
DTSTAMP:20260420T033727
CREATED:20250904T084426Z
LAST-MODIFIED:20250904T084426Z
UID:2408-1757581200-1757610000@www.regiopakt.de
SUMMARY:Großer Forschungs-Feldtag Gut&Bösel
DESCRIPTION:Beim großen Feldtag im September geht es um regenerative\, multifunktionale Landwirtschaft zwischen Praxis und Forschung – mit einer großen Hoftour und aktuellen Ergebnissen aus vier Forschungsprojekten (DaVasus\, DigiZert\, Regiopakt und Transform)! \nAblauf \nStation 1: Regenerativer Ackerbau mit Blühstreifen\, Untersaaten\, pflugloser Bearbeitung\nStation 2: Komplexe Agroforstsysteme (syntropisch\, agrosilvopastoral)\nStation 3: Ganzheitliches Weidemanagement mit Mob-Grazing\nStation 4: Kosten und Nachhaltigkeitsleistungen der Bewirtschaftung\nEs werden verschiedene Stationen des Bio-Betriebs Gut&Bösel mit den Mitarbeitenden aus der Praxis besichtigt. Das Forschungsteam präsentiert dazu Ergebnisse und führt live digitale Mess- und Managementtools vor. \nAußerdem gibt es einen interaktiven Teil\, in dem verschiedene digitale Entscheidungstools für eine nachhaltige Bewirtschaftung ausprobiert werden können.
URL:https://www.regiopakt.de/event/grosser-forschungs-feldtag-gutboesel/
LOCATION:Gut&Bösel\, Schlossstraße 32\, Briesen (Mark)\, 15518
END:VEVENT
END:VCALENDAR