BEGIN:VCALENDAR
VERSION:2.0
PRODID:-//Regiopakt - ECPv6.15.20//NONSGML v1.0//EN
CALSCALE:GREGORIAN
METHOD:PUBLISH
X-ORIGINAL-URL:https://www.regiopakt.de
X-WR-CALDESC:Veranstaltungen für Regiopakt
REFRESH-INTERVAL;VALUE=DURATION:PT1H
X-Robots-Tag:noindex
X-PUBLISHED-TTL:PT1H
BEGIN:VTIMEZONE
TZID:Europe/Berlin
BEGIN:DAYLIGHT
TZOFFSETFROM:+0100
TZOFFSETTO:+0200
TZNAME:CEST
DTSTART:20240331T010000
END:DAYLIGHT
BEGIN:STANDARD
TZOFFSETFROM:+0200
TZOFFSETTO:+0100
TZNAME:CET
DTSTART:20241027T010000
END:STANDARD
BEGIN:DAYLIGHT
TZOFFSETFROM:+0100
TZOFFSETTO:+0200
TZNAME:CEST
DTSTART:20250330T010000
END:DAYLIGHT
BEGIN:STANDARD
TZOFFSETFROM:+0200
TZOFFSETTO:+0100
TZNAME:CET
DTSTART:20251026T010000
END:STANDARD
BEGIN:DAYLIGHT
TZOFFSETFROM:+0100
TZOFFSETTO:+0200
TZNAME:CEST
DTSTART:20260329T010000
END:DAYLIGHT
BEGIN:STANDARD
TZOFFSETFROM:+0200
TZOFFSETTO:+0100
TZNAME:CET
DTSTART:20261025T010000
END:STANDARD
END:VTIMEZONE
BEGIN:VEVENT
DTSTART;TZID=Europe/Berlin:20251112T090000
DTEND;TZID=Europe/Berlin:20251114T180000
DTSTAMP:20260420T063822
CREATED:20250930T124918Z
LAST-MODIFIED:20250930T125112Z
UID:2431-1762938000-1763143200@www.regiopakt.de
SUMMARY:Agritechnica
DESCRIPTION:Besucht uns auf dem Stand der Agritechnica. \nWir vom Team regiopakt sind von Mittwoch\, 12.11.25 bis Freitag\, 14.11.25 am Stand vor Ort und beantworten gern eure Fragen. \nHalle 21 Stand E41 \n 
URL:https://www.regiopakt.de/event/agritechnica/
LOCATION:Hannover Messe\, Messegelände\, Hannover\, 30521\, Germany
END:VEVENT
BEGIN:VEVENT
DTSTART;TZID=Europe/Berlin:20251126T123000
DTEND;TZID=Europe/Berlin:20251127T160000
DTSTAMP:20260420T063822
CREATED:20250528T134539Z
LAST-MODIFIED:20250904T085323Z
UID:2169-1764160200-1764259200@www.regiopakt.de
SUMMARY:2.Kichererbsen-Forum
DESCRIPTION:Worum geht’s diesmal?\nDie Kichererbse kann mehr – aber nur\, wenn alle zusammenarbeiten. Deshalb stellen wir beim zweiten Forum die Brücke zwischen Anbau und Vermarktung in den Mittelpunkt: \nWie schaffen wir faire Preise\, verlässliche Partnerschaften und regionale Strukturen?\nWas braucht es\, damit Kichererbsen aus Deutschland nicht nur angebaut\, sondern auch verarbeitet und verkauft werden?\nDich erwartet: \n\nAustausch zwischen Praxis\, Wissenschaft und Verarbeitung\nFokus auf Verarbeitung und Vermarktung – regional gedacht\, praxisnah umgesetzt\nWorkshops\, Diskussionen und interaktive Formate\nVernetzen\, gemeinsam Lösungen entwickeln und genießen\nRaum für neue Ideen\, Kooperationen und spannende Produkte\n\nDas genaue Programm kann hier eingesehen werden: Programm 2. Kichererbsen-Forum  \nAnmeldung ist hier möglich: https://eveeno.com/257722905
URL:https://www.regiopakt.de/event/2-kichererbsen-forum/
LOCATION:Dedeleben-Huy\, Westerburg 34\, Dedeleben-Huy\, 38836
END:VEVENT
END:VCALENDAR